BEGIN:VCALENDAR
VERSION:2.0
PRODID:-//eventon.com NONSGML v1.0//EN
CALSCALE:GREGORIAN
METHOD:PUBLISH
BEGIN:VEVENT
UID:69e511f8161b6
DTSTAMP:20260419T173344
DTSTART:20251016T090000Z
DTEND:20251018T233000Z
TZID:UTC
LOCATION:
SUMMARY:Outer Banks BlueGrass Festival
DESCRIPTION: The only bluegrass festival in the OBX spread across a few days! Now in their 14th year and running. Come see national recording artists and enjoy the beauty of the beach while listening to bluegrass music.\nhttps://hotelmanteo.com/events/outer-banks-bluegrass-festival/
URL:https://hotelmanteo.com/events/outer-banks-bluegrass-festival/
END:VEVENT
END:VCALENDAR